BEGIN:VCALENDAR
VERSION:2.0
PRODID:-//Guiding Eyes Outdoors - ECPv6.15.20//NONSGML v1.0//EN
CALSCALE:GREGORIAN
METHOD:PUBLISH
X-WR-CALNAME:Guiding Eyes Outdoors
X-ORIGINAL-URL:https://guidingeyesoutdoors.org
X-WR-CALDESC:Events for Guiding Eyes Outdoors
REFRESH-INTERVAL;VALUE=DURATION:PT1H
X-Robots-Tag:noindex
X-PUBLISHED-TTL:PT1H
BEGIN:VTIMEZONE
TZID:America/New_York
BEGIN:DAYLIGHT
TZOFFSETFROM:-0500
TZOFFSETTO:-0400
TZNAME:EDT
DTSTART:20250309T070000
END:DAYLIGHT
BEGIN:STANDARD
TZOFFSETFROM:-0400
TZOFFSETTO:-0500
TZNAME:EST
DTSTART:20251102T060000
END:STANDARD
BEGIN:DAYLIGHT
TZOFFSETFROM:-0500
TZOFFSETTO:-0400
TZNAME:EDT
DTSTART:20260308T070000
END:DAYLIGHT
BEGIN:STANDARD
TZOFFSETFROM:-0400
TZOFFSETTO:-0500
TZNAME:EST
DTSTART:20261101T060000
END:STANDARD
BEGIN:DAYLIGHT
TZOFFSETFROM:-0500
TZOFFSETTO:-0400
TZNAME:EDT
DTSTART:20270314T070000
END:DAYLIGHT
BEGIN:STANDARD
TZOFFSETFROM:-0400
TZOFFSETTO:-0500
TZNAME:EST
DTSTART:20271107T060000
END:STANDARD
END:VTIMEZONE
BEGIN:VEVENT
DTSTART;TZID=America/New_York:20260423T080000
DTEND;TZID=America/New_York:20260426T170000
DTSTAMP:20260424T074504
CREATED:20260309T000832Z
LAST-MODIFIED:20260326T235952Z
UID:1532-1776931200-1777222800@guidingeyesoutdoors.org
SUMMARY:2026 Turkey Camp
DESCRIPTION:Mountain City\, TN\nApril 23-26\, 2026\nJoin us for an unforgettable spring turkey hunt in the mountains of Northeast Tennessee. This upcoming hunt will take place near Mountain City\, Tennessee and will be proudly hosted by Appalachian Custom Calls\, a company known for its dedication to the tradition and craftsmanship of turkey hunting. \nMountain City is a small Appalachian town surrounded by some of the most beautiful and rugged land in the region. Located in the northeastern corner of Tennessee near the borders of North Carolina and Virginia\, the area is defined by steep ridgelines\, hardwood forests\, quiet hollows\, and winding mountain streams. Towering stands of oak\, hickory\, and poplar blanket the mountainsides\, creating ideal habitat for Eastern wild turkeys. In the spring\, the forest wakes up with fresh green growth and the unmistakable sound of gobblers echoing from ridge to ridge at daybreak. \nThis hunt offers participants a chance to experience classic Appalachian turkey hunting. Mornings will begin before sunrise as hunters listen for gobbles rolling through the mountain valleys before moving into position along hardwood ridges\, logging roads\, and natural travel corridors where gobblers roam during the spring breeding season. \nHosted by Appalachian Custom Calls\, this event is about more than just the hunt—it’s about sharing the heritage and skills of turkey hunting in the mountains. Participants will have the opportunity to hunt beautiful mountain terrain\, learn calling techniques\, and experience the excitement of working a mountain gobbler in his home country. \nWhether you’re a seasoned turkey hunter or someone looking to experience the challenge and beauty of mountain hunting for the first time\, this event promises an authentic Appalachian outdoor experience. \nCome join us in the mountains and hear the woods come alive with the sound of spring gobblers in Mountain City. \nPlease use the form below to sign up for this event\n\n                    2026 Turkey HuntΔ 2026 Turkey Hunt Sign Up Form\n\n\nComplete this form to sign up for the event. \n\n\n\n Are you registering for the 2026 Turkey Hunt- Select -YesFirst NameLast NamePhoneEmailGovernment Identification Please provide your Drivers License or government ID NumberPlease provide your NC Wildlife Commission License NumberApplicant Identification InformationPlease provide your current mailing addressAddress Line 1Address Line 2CityStateZip CodeCountrySelect CountryAfghanistanAland IslandsAlbaniaAlgeriaAmerican SamoaAndorraAngolaAnguillaAntarcticaAntigua and BarbudaArgentinaArmeniaArubaAustraliaAustriaAzerbaijanBahamasBahrainBangladeshBarbadosBelarusBelgiumBelizeBeninBermudaBhutanBoliviaBonaire\, Saint Eustatius and SabaBosnia and HerzegovinaBotswanaBouvet IslandBrazilBritish Indian Ocean TerritoryBritish Virgin IslandsBruneiBulgariaBurkina FasoBurundiCabo VerdeCambodiaCameroonCanadaCayman IslandsCentral African RepublicChadChileChinaChristmas IslandCocos (Keeling) IslandsColombiaComorosCook IslandsCosta RicaCroatiaCubaCuraçaoCyprusCzech RepublicDemocratic Republic of the Congo (Kinshasa)DenmarkDjiboutiDominicaDominican RepublicEcuadorEgyptEl SalvadorEquatorial GuineaEritreaEstoniaEswatiniEthiopiaFalkland IslandsFaroe IslandsFijiFinlandFranceFrench GuianaFrench PolynesiaFrench Southern TerritoriesGabonGambiaGeorgiaGermanyGhanaGibraltarGreeceGreenlandGrenadaGuadeloupeGuamGuatemalaGuernseyGuineaGuinea-BissauGuyanaHaitiHeard Island and McDonald IslandsHondurasHong KongHungaryIcelandIndiaIndonesiaIranIraqIrelandIsle of ManIsraelItalyIvory CoastJamaicaJapanJerseyJordanKazakhstanKenyaKiribatiKosovoKuwaitKyrgyzstanLaosLatviaLebanonLesothoLiberiaLibyaLiechtensteinLithuaniaLuxembourgMacao S.A.R.\, ChinaMadagascarMalawiMalaysiaMaldivesMaliMaltaMarshall IslandsMartiniqueMauritaniaMauritiusMayotteMexicoMicronesiaMoldovaMonacoMongoliaMontenegroMontserratMoroccoMozambiqueMyanmarNamibiaNauruNepalNetherlandsNew CaledoniaNew ZealandNicaraguaNigerNigeriaNiueNorfolk IslandNorth KoreaNorth MacedoniaNorthern Mariana IslandsNorwayOmanPakistanPalauPalestinian TerritoryPanamaPapua New GuineaParaguayPeruPhilippinesPitcairnPolandPortugalPuerto RicoQatarRepublic of the Congo (Brazzaville)RomaniaRussiaRwandaRéunionSaint BarthélemySaint HelenaSaint Kitts and NevisSaint LuciaSaint Martin (Dutch part)Saint Martin (French part)Saint Pierre and MiquelonSaint Vincent and the GrenadinesSamoaSan MarinoSao Tome and PrincipeSaudi ArabiaSenegalSerbiaSeychellesSierra LeoneSingaporeSlovakiaSloveniaSolomon IslandsSomaliaSouth AfricaSouth Georgia/Sandwich IslandsSouth KoreaSouth SudanSpainSri LankaSudanSurinameSvalbard and Jan MayenSwedenSwitzerlandSyriaTaiwanTajikistanTanzaniaThailandTimor-LesteTogoTokelauTongaTrinidad and TobagoTunisiaTurkmenistanTurks and Caicos IslandsTuvaluTürkiyeUgandaUkraineUnited Arab EmiratesUnited Kingdom (UK)United States (US)United States (US) Minor Outlying IslandsUnited States (US) Virgin IslandsUruguayUzbekistanVanuatuVaticanVenezuelaVietnamWallis and FutunaWestern SaharaYemenZambiaZimbabweWhat is your birthday?Please identify your racePlease choose your gender- Select -MaleFemalePrefer Not to AnswerWhat size shirt do you wear- Select -SmallMediumLargeExtra Large2XL3XLPlease choose your age group- Select -Prefer Not to Answer0-910-1920-2930-3940-4950-5960-6970-79Event Attendance OptionsSome description about this sectionHave you attended a GEO event in the past- Select -YesNoPlease Select All That ApplyBlind/Visually ImpairedActive Duty/VeteranFirst ResponderChildren of the FallenVolunteerGuideGEO StaffHave you harvested a turkey before?- Select -YesNoBlind & Visually Impaired QuestionsThis section contains questions so that we can serve you better. Please describe your visual impairment.Are you light sensitive?YesNoIf so\, please describe your sensitivity. Are you trained with a walking cane?- Select -YesNoAre you physically capable of walking in excess of 500 yards with a sighted guide?- Select -YesNoPlease describe any other disabilities or limitations.First Responder QuestionsResponses to these questions are maintained for tracking our service to specific groups of First Responders. Please select your service branch.- Select -PoliceFireEMS/ParamedicER Doctors/NursesWere you hurt in the line of duty that resulted in a career ending disability?- Select -YesNoPlease list any unions or groups that you are associated with because of your job.Active Military & Veteran QuestionsResponses to these questions are maintained for tracking our service to specific groups of active and retired military personnel. Please select your service branch.- Select -ArmyMarine CorpsCoast GuardNavyAir ForceSpace ForceAre you active duty\, reserves\, or a veteran?- Select -Active DutyReservesVeteranWere you honorably discharged?- Select -YesNoWere you hurt in the line of duty that resulted in a career ending disability?- Select -YesNoVolunteer QuestionsThis section is for all other volunteers interested in helping with the event. Please select the role that you are interested in helping withSelectCamp SetupBreakfast Cook/HelperLunch Cook/HelperDinner Cook/HelperIndividual Veteran GuideVeteran Group GuideCamp Clean upCamp SupportGame Retrieval/Cleaning StationPlease describe your experience in this roleGuide QuestionsAre you an experienced turkey hunter? - Select -YesNoGeneral QuestionsAre you comfortable with primitive style events and camping in tents with limited to no water or sewer services.- Select -YesNoDo you require mobility assistance? - Select -YesNoAre you sensitive to hot or cold temperatures?HotColdNeitherOn a scale of 1 to 5 please rate your outdoor experience level (one being the lowest).12345Please list any food allergies.A letter from a doctor will be required stating that you are in condition for the activity described.  Are you willing to email this to info@guidingeyesoutdoors.org?- Select -YesNoWaivers & ConditionsHunting Terms and ConditionsPlease visit our Hunting Terms and Conditions Page below Please click this link to our Hunting Terms & Conditions.  Participant Contract & AgreementPlease visit our Participant Contract & Agreement Page below Please click this link to the Participant Contract & Agreement.  Participant Agreement CertificationBy entering your first and last name below\, you certify that you have read the Hunting Terms and Conditions and the Participant Contract & Agreement and agree to the terms in the agreement. First NameLast NameVolunteer AgreementPlease visit our Volunteer Agreement Page Below Please click this link to visit our Volunteer Agreement Page Volunteer Agreement CertificationBy entering your first and last name below you certify that you read to the Volunteer Agreement and agree to the terms in the agreement. First NameLast NameEmergency Contact InformationFirst NameLast NameEmailPhone NumberSubmit Form            \n             \n 
URL:https://guidingeyesoutdoors.org/event/2026-turkey-camp/
CATEGORIES:Hunting,Turkey Camp
END:VEVENT
BEGIN:VEVENT
DTSTART;TZID=America/New_York:20260515T170000
DTEND;TZID=America/New_York:20260517T110000
DTSTAMP:20260424T074504
CREATED:20260216T030125Z
LAST-MODIFIED:20260408T013952Z
UID:1524-1778864400-1779015600@guidingeyesoutdoors.org
SUMMARY:2026 Cherokee Mountain Trout Trip
DESCRIPTION:2026 Mountain Trout Trip\nMay 15-17\, 2026\nCherokee KOA Campground\n92 KOA Campground Road\nCherokee\, NC 28719\nCome join us for a weekend of relaxation and tranquility while trout fishing on stocked streams and ponds in beautiful Cherokee\, North Carolina.  The event will be hosted by the Cherokee/Great Smokies KOA Campground.  Attendees can anticipate good camaraderie\, relaxation\, and fun times.  Accommodations will consist of overnight camping in our 10×12 Canvas Wall Tent from The Wall Tent Shop and a Davis Canvas Tent. \n\n                    2026 Mountain Trout Sign Up FormΔ 2026 Mountain Trout Sign Up Form\n\n\nComplete this form to sign up for the event. \n\n\n\n Are you registering for the 2026 Mountain Trout Trip- Select -YesFirst NameLast NamePhoneEmailGovernment Identification Please provide your Drivers License or government ID NumberPlease provide your NC Wildlife Commission License NumberApplicant Identification InformationPlease provide your current mailing addressAddress Line 1Address Line 2CityStateZip CodeCountrySelect CountryAfghanistanAland IslandsAlbaniaAlgeriaAmerican SamoaAndorraAngolaAnguillaAntarcticaAntigua and BarbudaArgentinaArmeniaArubaAustraliaAustriaAzerbaijanBahamasBahrainBangladeshBarbadosBelarusBelgiumBelizeBeninBermudaBhutanBoliviaBonaire\, Saint Eustatius and SabaBosnia and HerzegovinaBotswanaBouvet IslandBrazilBritish Indian Ocean TerritoryBritish Virgin IslandsBruneiBulgariaBurkina FasoBurundiCabo VerdeCambodiaCameroonCanadaCayman IslandsCentral African RepublicChadChileChinaChristmas IslandCocos (Keeling) IslandsColombiaComorosCook IslandsCosta RicaCroatiaCubaCuraçaoCyprusCzech RepublicDemocratic Republic of the Congo (Kinshasa)DenmarkDjiboutiDominicaDominican RepublicEcuadorEgyptEl SalvadorEquatorial GuineaEritreaEstoniaEswatiniEthiopiaFalkland IslandsFaroe IslandsFijiFinlandFranceFrench GuianaFrench PolynesiaFrench Southern TerritoriesGabonGambiaGeorgiaGermanyGhanaGibraltarGreeceGreenlandGrenadaGuadeloupeGuamGuatemalaGuernseyGuineaGuinea-BissauGuyanaHaitiHeard Island and McDonald IslandsHondurasHong KongHungaryIcelandIndiaIndonesiaIranIraqIrelandIsle of ManIsraelItalyIvory CoastJamaicaJapanJerseyJordanKazakhstanKenyaKiribatiKosovoKuwaitKyrgyzstanLaosLatviaLebanonLesothoLiberiaLibyaLiechtensteinLithuaniaLuxembourgMacao S.A.R.\, ChinaMadagascarMalawiMalaysiaMaldivesMaliMaltaMarshall IslandsMartiniqueMauritaniaMauritiusMayotteMexicoMicronesiaMoldovaMonacoMongoliaMontenegroMontserratMoroccoMozambiqueMyanmarNamibiaNauruNepalNetherlandsNew CaledoniaNew ZealandNicaraguaNigerNigeriaNiueNorfolk IslandNorth KoreaNorth MacedoniaNorthern Mariana IslandsNorwayOmanPakistanPalauPalestinian TerritoryPanamaPapua New GuineaParaguayPeruPhilippinesPitcairnPolandPortugalPuerto RicoQatarRepublic of the Congo (Brazzaville)RomaniaRussiaRwandaRéunionSaint BarthélemySaint HelenaSaint Kitts and NevisSaint LuciaSaint Martin (Dutch part)Saint Martin (French part)Saint Pierre and MiquelonSaint Vincent and the GrenadinesSamoaSan MarinoSao Tome and PrincipeSaudi ArabiaSenegalSerbiaSeychellesSierra LeoneSingaporeSlovakiaSloveniaSolomon IslandsSomaliaSouth AfricaSouth Georgia/Sandwich IslandsSouth KoreaSouth SudanSpainSri LankaSudanSurinameSvalbard and Jan MayenSwedenSwitzerlandSyriaTaiwanTajikistanTanzaniaThailandTimor-LesteTogoTokelauTongaTrinidad and TobagoTunisiaTurkmenistanTurks and Caicos IslandsTuvaluTürkiyeUgandaUkraineUnited Arab EmiratesUnited Kingdom (UK)United States (US)United States (US) Minor Outlying IslandsUnited States (US) Virgin IslandsUruguayUzbekistanVanuatuVaticanVenezuelaVietnamWallis and FutunaWestern SaharaYemenZambiaZimbabweWhat is your birthday?Please identify your racePlease choose your gender- Select -MaleFemalePrefer Not to AnswerPlease choose your age group- Select -Prefer Not to Answer0-910-1920-2930-3940-4950-5960-6970-79Event Attendance OptionsSome description about this sectionHave you attended a GEO event in the past- Select -YesNoPlease Select All That ApplyBlind/Visually ImpairedActive Duty/VeteranFirst ResponderChildren of the FallenVolunteerGEO StaffBlind & Visually Impaired QuestionsThis section contains questions so that we can serve you better. Please describe your visual impairment.Are you light sensitive?YesNoIf so\, please describe your sensitivity. Are you trained with a walking cane?- Select -YesNoAre you physically capable of walking in excess of 500 yards with a sighted guide?- Select -YesNoPlease describe any other disabilities or limitations.First Responder QuestionsResponses to these questions are maintained for tracking our service to specific groups of First Responders. Please select your service branch.- Select -PoliceFireEMS/ParamedicER Doctors/NursesWere you hurt in the line of duty that resulted in a career ending disability?- Select -YesNoPlease list any unions or groups that you are associated with because of your job.Active Military & Veteran QuestionsResponses to these questions are maintained for tracking our service to specific groups of active and retired military personnel. Please select your service branch.- Select -ArmyMarine CorpsCoast GuardNavyAir ForceSpace ForceAre you active duty\, reserves\, or a veteran?- Select -Active DutyReservesVeteranWere you honorably discharged?- Select -YesNoWere you hurt in the line of duty that resulted in a career ending disability?- Select -YesNoVolunteer QuestionsThis section is for all other volunteers interested in helping with the event. Please select the role that you are interested in helping withSelectCamp SetupBreakfast Cook/HelperLunch Cook/HelperDinner Cook/HelperIndividual Veteran GuideVeteran Group GuideCamp Clean upCamp SupportGame Retrieval/Cleaning StationPlease describe your experience in this roleGeneral QuestionsAre you comfortable with primitive style events and camping in tents with limited to no water or sewer services.- Select -YesNoDo you require mobility assistance? - Select -YesNoAre you sensitive to hot or cold temperatures?HotColdNeitherOn a scale of 1 to 5 please rate your outdoor experience level (one being the lowest).12345Please list any food allergies.A letter from a doctor will be required stating that you are in condition for the activity described.  Are you willing to email this to info@guidingeyesoutdoors.org?- Select -YesNoWaivers & ConditionsFishing Terms and ConditionsPlease visit our Fishing Terms and Conditions Page below Please click this link to our Fishing Terms & Conditions.  Participant Contract & AgreementPlease visit our Participant Contract & Agreement Page below Please click this link to Participant Contract & Agreement.  Participant Agreement CertificationBy entering your first and last name below\, you certify that you read the Fishing Terms and Conditions and the Participant Contract & Agreement and agree to the terms in the agreement. First NameLast NameVolunteer AgreementPlease visit our Volunteer Agreement Page Below Please click this link to visit our Volunteer Agreement Page Volunteer Agreement CertificationBy entering your first and last name below you certify that you read to the Volunteer Agreement and agree to the terms in the agreement. First NameLast NameEmergency Contact InformationFirst NameLast NameEmailPhone NumberSubmit Form
URL:https://guidingeyesoutdoors.org/event/2026-cherokee-mountain-trout-trip/
END:VEVENT
BEGIN:VEVENT
DTSTART;TZID=America/New_York:20260529T170000
DTEND;TZID=America/New_York:20260531T120000
DTSTAMP:20260424T074504
CREATED:20260216T033920Z
LAST-MODIFIED:20260408T014642Z
UID:1528-1780074000-1780228800@guidingeyesoutdoors.org
SUMMARY:2026 Kerr Lake Striper & Catfish Weekend
DESCRIPTION:2026 Kerr Lake Striper & Catfish Weekend\nMay 29-31\, 2026\nHenderson Point Campground\nCome join Drew Blake for a weekend of fishing on Kerr Lake/Buggs Island Reservoir. Buggs Island consists of nearly 50\,000 acres of surface water and 800 miles of shoreline. Join us as we target two of the lakes well known fisheries (Striped Bass and Catfish). Buggs Island is known to have two “schools” of stripers which is based on their original stocking locations. One school ranges from Clarksville to the Ivy Hill area and “migrates” up the Dan River. During spring\, these stripers can be found in the upper end of the lake and in the river above Clarksville as fish travel upstream to spawn. The second school ranges from Eastland Creek back toward the dam and “migrates” up to Nutbush Creek. As the summer progresses the upper school migrates down the lake and joins the lower school around Eastland Creek due to a combination of high water temperatures and low dissolved oxygen which forces striped bass to be found in the lower end of the lake (the dam to about Buoy 9 and in the mouth of Nutbush Creek). Striped bass caught during the summer suffer high mortality rates when released (approximately 75 percent). Therefore\, both NC and VA have removed the size limit restriction during the summer months (June – September) and ask that anglers halt striper fishing when they catch their legal limit of four striped bass per day rather than continue to catch fish and cull smaller fish. \nBuggs Island is also home to the World Record Blue Catfish weighing in at a whopping 143 pounds. Catfish can be caught throughout the lake by focusing on points next to deep channels. \nStriped bass will be targeted with live bait and/or deep water trolling techniques depending on conditions at the time. Live baiting will consist of 6-8 rods rigged with modified Carolina Rigs topped off with herring or bream fishing in depths from 10-40 feet deep. Live baiting will utilize planers boards from AlphaBoardz. Deep Water Trolling will consist of 4 rods fished off of Cannon downriggers and 2-4 leadcore rods fishing at depths from 25-60 feet deep. Trolling will use a variety of lure combinations but the most common ones are Alabama rigs topped with bucktails and Striper Sniper Snake worms or a three way swivel with a diving lure on the bottom and a bucktail on the top. \nCatfish will be targeted using Santee Cooper Rigs\, Carolina Rigs\, float rigs and/or noodles ranging from shallow points and coves (10-15 feet deep) to deep water channel ledges (30-40 feet deep) depending on conditions. Night time catfishing will occur depending on conditions and participant desires. \nOvernight camping will occur on waterfront campsites with electric and running water in our 10×12 Canvas Wall Tent from The Wall Tent Shop and a Davis Canvas Tent. Bath facilities will be located in the communal bathhouse. \n\n                    2026 Kerr Lake Striper & Catfish Weekend Sign Up FormΔ 2026 Kerr Lake Striper & Catfish Weekend Sign Up Form\n\n\nComplete this form to sign up for the event. \n\n\n\n Are you prepared to register for this event- Select -YesNoFirst NameLast NamePhoneEmailGovernment Identification Please provide your Drivers License or government ID NumberDo you have a North Carolina Hunting or Fishing License- Select -YesNoPlease provide your NC Wildlife Commission License NumberApplicant Identification InformationPlease provide your current mailing addressAddress Line 1Address Line 2CityStateZip CodeCountrySelect CountryAfghanistanAland IslandsAlbaniaAlgeriaAmerican SamoaAndorraAngolaAnguillaAntarcticaAntigua and BarbudaArgentinaArmeniaArubaAustraliaAustriaAzerbaijanBahamasBahrainBangladeshBarbadosBelarusBelgiumBelizeBeninBermudaBhutanBoliviaBonaire\, Saint Eustatius and SabaBosnia and HerzegovinaBotswanaBouvet IslandBrazilBritish Indian Ocean TerritoryBritish Virgin IslandsBruneiBulgariaBurkina FasoBurundiCabo VerdeCambodiaCameroonCanadaCayman IslandsCentral African RepublicChadChileChinaChristmas IslandCocos (Keeling) IslandsColombiaComorosCook IslandsCosta RicaCroatiaCubaCuraçaoCyprusCzech RepublicDemocratic Republic of the Congo (Kinshasa)DenmarkDjiboutiDominicaDominican RepublicEcuadorEgyptEl SalvadorEquatorial GuineaEritreaEstoniaEswatiniEthiopiaFalkland IslandsFaroe IslandsFijiFinlandFranceFrench GuianaFrench PolynesiaFrench Southern TerritoriesGabonGambiaGeorgiaGermanyGhanaGibraltarGreeceGreenlandGrenadaGuadeloupeGuamGuatemalaGuernseyGuineaGuinea-BissauGuyanaHaitiHeard Island and McDonald IslandsHondurasHong KongHungaryIcelandIndiaIndonesiaIranIraqIrelandIsle of ManIsraelItalyIvory CoastJamaicaJapanJerseyJordanKazakhstanKenyaKiribatiKosovoKuwaitKyrgyzstanLaosLatviaLebanonLesothoLiberiaLibyaLiechtensteinLithuaniaLuxembourgMacao S.A.R.\, ChinaMadagascarMalawiMalaysiaMaldivesMaliMaltaMarshall IslandsMartiniqueMauritaniaMauritiusMayotteMexicoMicronesiaMoldovaMonacoMongoliaMontenegroMontserratMoroccoMozambiqueMyanmarNamibiaNauruNepalNetherlandsNew CaledoniaNew ZealandNicaraguaNigerNigeriaNiueNorfolk IslandNorth KoreaNorth MacedoniaNorthern Mariana IslandsNorwayOmanPakistanPalauPalestinian TerritoryPanamaPapua New GuineaParaguayPeruPhilippinesPitcairnPolandPortugalPuerto RicoQatarRepublic of the Congo (Brazzaville)RomaniaRussiaRwandaRéunionSaint BarthélemySaint HelenaSaint Kitts and NevisSaint LuciaSaint Martin (Dutch part)Saint Martin (French part)Saint Pierre and MiquelonSaint Vincent and the GrenadinesSamoaSan MarinoSao Tome and PrincipeSaudi ArabiaSenegalSerbiaSeychellesSierra LeoneSingaporeSlovakiaSloveniaSolomon IslandsSomaliaSouth AfricaSouth Georgia/Sandwich IslandsSouth KoreaSouth SudanSpainSri LankaSudanSurinameSvalbard and Jan MayenSwedenSwitzerlandSyriaTaiwanTajikistanTanzaniaThailandTimor-LesteTogoTokelauTongaTrinidad and TobagoTunisiaTurkmenistanTurks and Caicos IslandsTuvaluTürkiyeUgandaUkraineUnited Arab EmiratesUnited Kingdom (UK)United States (US)United States (US) Minor Outlying IslandsUnited States (US) Virgin IslandsUruguayUzbekistanVanuatuVaticanVenezuelaVietnamWallis and FutunaWestern SaharaYemenZambiaZimbabweWhat is your birthday?Please identify your racePlease choose your gender- Select -MaleFemalePrefer Not to AnswerPlease choose your age group- Select -Prefer Not to Answer0-910-1920-2930-3940-4950-5960-6970-79Event Attendance OptionsSome description about this sectionHave you attended a GEO event in the past- Select -YesNoPlease Select All That ApplyBlind/Visually ImpairedActive Duty/VeteranFirst ResponderChildren of the FallenVolunteerGEO StaffBlind & Visually Impaired QuestionsThis section contains questions so that we can serve you better. Please describe your visual impairment.Are you light sensitive?YesNoIf so\, please describe your sensitivity. Are you trained with a walking cane?- Select -YesNoAre you physically capable of walking in excess of 500 yards with a sighted guide?- Select -YesNoPlease describe any other disabilities or limitations.First Responder QuestionsResponses to these questions are maintained for tracking our service to specific groups of First Responders. Please select your service branch.- Select -PoliceFireEMS/ParamedicER Doctors/NursesWere you hurt in the line of duty that resulted in a career ending disability?- Select -YesNoPlease list any unions or groups that you are associated with because of your job.Active Military & Veteran QuestionsResponses to these questions are maintained for tracking our service to specific groups of active and retired military personnel. Please select your service branch.- Select -ArmyMarine CorpsCoast GuardNavyAir ForceSpace ForceAre you active duty\, reserves\, or a veteran?- Select -Active DutyReservesVeteranWere you honorably discharged?- Select -YesNoWere you hurt in the line of duty that resulted in a career ending disability?- Select -YesNoVolunteer QuestionsThis section is for all other volunteers interested in helping with the event. Please select the role that you are interested in helping withSelectCamp SetupBreakfast Cook/HelperLunch Cook/HelperDinner Cook/HelperIndividual Veteran GuideVeteran Group GuideCamp Clean upCamp SupportGame Retrieval/Cleaning StationPlease describe your experience in this roleGeneral QuestionsAre you comfortable with primitive style events and camping in tents with limited to no water or sewer services.- Select -YesNoDo you require mobility assistance? - Select -YesNoAre you sensitive to hot or cold temperatures?HotColdNeitherOn a scale of 1 to 5 please rate your outdoor experience level (one being the lowest).12345Please list any food allergies.A letter from a doctor will be required stating that you are in condition for the activity described.  Are you willing to email this to info@guidingeyesoutdoors.org?- Select -YesNoWaivers & ConditionsFishing Terms and ConditionsPlease visit our Fishing Terms and Conditions Page below Please click this link to our Fishing Terms & Conditions.  Participant Contract & AgreementPlease visit our Participant Contract & Agreement Page below Please click this link to Participant Contract & Agreement.  Participant Agreement CertificationBy entering your first and last name below\, you certify that you read the Fishing Terms and Conditions and the Participant Contract & Agreement and agree to the terms in the agreement. First NameLast NameVolunteer AgreementPlease visit our Volunteer Agreement Page Below Please click this link to visit our Volunteer Agreement Page Volunteer Agreement CertificationBy entering your first and last name below you certify that you read to the Volunteer Agreement and agree to the terms in the agreement. First NameLast NameEmergency Contact InformationFirst NameLast NameEmailPhone NumberSubmit Form
URL:https://guidingeyesoutdoors.org/event/2026-kerr-lake-striper-catfish-weekend/
LOCATION:Kerr Lake
END:VEVENT
END:VCALENDAR